Workbook
Name ev: Model!$B$40
Name implied_rev_mult: Model!$B$42
Name mature_fcf_margin: Model!$B$9
Name terminal_mult_cap: Model!$B$15
Name shares: Model!$B$13
Name disc: Model!$B$19
Name entry_growth: Model!$B$8
Name total_mult_cap: Model!$B$16
Name just_mult: Model!$B$39
Name equity_value: Model!$B$41
Name discount_rate: Model!$B$7
Name revenue: Model!$B$12
Name norm_fcf: Model!$B$21
Name term_mult_raw: Model!$B$22
Name cagr_7yr: Model!$B$37
Name value_per_share: Model!$B$43
Name term_mult: Model!$B$26
Name rev_mult: Model!$B$36
Name just_mult_raw: Model!$B$38
Name upside_calc: Model!$B$44
Name decay: Model!$B$6
Name price: Model!$B$11
Name disc7: Model!$B$25
Name net_cash: Model!$B$10

Sheet Model
A1: Klaviyo (KVYO) - Graham-Dodd SaaS growth-multiplier valuation
A2: As of 2026-08-18 · Currency: USD · https://modeledge.ai/model/fm_7878d1344fc91e5aea05f9937ca42c1c
B4: FY2025A
A5: Inputs
A6: Relative growth decay per year | B6: 0.15
A7: Discount rate | B7: 0.1
A8: Entry revenue growth (FY2025 YoY) | B8: 0.3163
A9: Mature FCF margin (AFTER charging SBC in full) | B9: 0.16
A10: Net cash and equivalents ($M) | B10: 832.6
A11: Market price ($) | B11: 17.54
A12: FY2025 revenue ($M) | B12: 1234.019
A13: Diluted shares (M) | B13: 299.3
A14: Constants
A15: terminal_mult_cap | B15: 18
A16: total_mult_cap | B16: 45
A17: Calculations
A18: d1 | B18: =(1-Model!$B$6)
A19: disc | B19: =(1+Model!$B$7)
A20: g0 | B20: =Model!$B$8
A21: norm_fcf | B21: =(Model!$B$12*Model!$B$9)
A22: term_mult_raw | B22: =(13.5+((Model!$B$8-0.10)*15))
A23: d2 | B23: =(Model!$B$18*Model!$B$18)
A24: g1 | B24: =(Model!$B$8*Model!$B$18)
A25: disc7 | B25: =((((((Model!$B$19*Model!$B$19)*Model!$B$19)*Model!$B$19)*Model!$B$19)*Model!$B$19)*Model!$B$19)
A26: term_mult | B26: =MIN(Model!$B$22,Model!$B$15)
A27: d3 | B27: =(Model!$B$23*Model!$B$18)
A28: g2 | B28: =(Model!$B$8*Model!$B$23)
A29: d4 | B29: =(Model!$B$27*Model!$B$18)
A30: g3 | B30: =(Model!$B$8*Model!$B$27)
A31: d5 | B31: =(Model!$B$29*Model!$B$18)
A32: g4 | B32: =(Model!$B$8*Model!$B$29)
A33: d6 | B33: =(Model!$B$31*Model!$B$18)
A34: g5 | B34: =(Model!$B$8*Model!$B$31)
A35: g6 | B35: =(Model!$B$8*Model!$B$33)
A36: rev_mult | B36: =(((((((1+Model!$B$20)*(1+Model!$B$24))*(1+Model!$B$28))*(1+Model!$B$30))*(1+Model!$B$32))*(1+Model!$B$34))*(1+Model!$B$35))
A37: cagr_7yr | B37: =(POWER(Model!$B$36,(1.0/7.0))-1)
A38: just_mult_raw | B38: =((Model!$B$36*Model!$B$26)/Model!$B$25)
A39: just_mult | B39: =MIN(Model!$B$38,Model!$B$16)
A40: ev | B40: =(Model!$B$39*Model!$B$21)
A41: equity_value | B41: =(Model!$B$40+Model!$B$10)
...

Sheet Calc
A1: Intermediate calculations materialized from expressions; referenced by formulas on the Model sheet.

Sheet Sources
A1: Claim | B1: URL | C1: Accessed
B2: https://www.sec.gov/cgi-bin/browse-edgar?action=getcompany&CIK=0001835830&type=10-K&dateb=&owner=include&count=40
B3: https://www.sec.gov/cgi-bin/browse-edgar?action=getcompany&CIK=0001835830&type=10-Q&dateb=&owner=include&count=40
